BEGIN:VCALENDAR
VERSION:2.0
PRODID:-//Grant Simpson Music - ECPv6.15.20//NONSGML v1.0//EN
CALSCALE:GREGORIAN
METHOD:PUBLISH
X-ORIGINAL-URL:https://www.grantsimpson.net/gs-wp
X-WR-CALDESC:Events for Grant Simpson Music
REFRESH-INTERVAL;VALUE=DURATION:PT1H
X-Robots-Tag:noindex
X-PUBLISHED-TTL:PT1H
BEGIN:VTIMEZONE
TZID:America/Whitehorse
BEGIN:DAYLIGHT
TZOFFSETFROM:-0800
TZOFFSETTO:-0700
TZNAME:PDT
DTSTART:20090308T100000
END:DAYLIGHT
BEGIN:STANDARD
TZOFFSETFROM:-0700
TZOFFSETTO:-0800
TZNAME:PST
DTSTART:20091101T090000
END:STANDARD
BEGIN:DAYLIGHT
TZOFFSETFROM:-0800
TZOFFSETTO:-0700
TZNAME:PDT
DTSTART:20100314T100000
END:DAYLIGHT
BEGIN:STANDARD
TZOFFSETFROM:-0700
TZOFFSETTO:-0800
TZNAME:PST
DTSTART:20101107T090000
END:STANDARD
BEGIN:DAYLIGHT
TZOFFSETFROM:-0800
TZOFFSETTO:-0700
TZNAME:PDT
DTSTART:20110313T100000
END:DAYLIGHT
BEGIN:STANDARD
TZOFFSETFROM:-0700
TZOFFSETTO:-0800
TZNAME:PST
DTSTART:20111106T090000
END:STANDARD
BEGIN:DAYLIGHT
TZOFFSETFROM:-0800
TZOFFSETTO:-0700
TZNAME:PDT
DTSTART:20120311T100000
END:DAYLIGHT
BEGIN:STANDARD
TZOFFSETFROM:-0700
TZOFFSETTO:-0800
TZNAME:PST
DTSTART:20121104T090000
END:STANDARD
END:VTIMEZONE
BEGIN:VEVENT
DTSTART;TZID=America/Whitehorse:20110205T190000
DTEND;TZID=America/Whitehorse:20110205T220000
DTSTAMP:20260422T103421
CREATED:20101220T185852Z
LAST-MODIFIED:20101230T033910Z
UID:221-1296932400-1296943200@www.grantsimpson.net
SUMMARY:Two Piano Tornado at the Old Firehall
DESCRIPTION:Two Piano Tornado (Annie Avery and Grant Simpson) will team up to bring you an evening of two-piano music at the Old Firehall in Whitehorse.  \nFeaturing a tribute to “Fats Waller” (one of the worlds finest pianists\, composers and entertainers) \nFeb. 05\, 2011\nShow starts at 7:00 p.m.\nTickets $20 and can be purchased at MusicYukon (509B Jarvis)\, Unitech and Dean’s Strings. \nTwo Piano Tornado at the Old Firehall - Feb 5th
URL:https://www.grantsimpson.net/gs-wp/event/two-piano-tornado-at-the-old-firehall/
LOCATION:Old Firehall\, 1105 1st Avenue\, Whitehorse\, Yukon\, Canada
CATEGORIES:Upcoming Shows
END:VEVENT
BEGIN:VEVENT
DTSTART;TZID=America/Whitehorse:20110129T193000
DTEND;TZID=America/Whitehorse:20110129T220000
DTSTAMP:20260422T103421
CREATED:20101228T174058Z
LAST-MODIFIED:20101228T174222Z
UID:259-1296329400-1296338400@www.grantsimpson.net
SUMMARY:House Concert with Don Ogilvie
DESCRIPTION:House Concert at Erica and Selina’s \nA chance to hear Don and Grant Simpson up-close and personal. They toured throughout Canada and China\, now here they are back in the Yukon! \nLast year the concert sold out right away\, so if you’d like to check it out – get your tickets now. \n$20.00 per person
URL:https://www.grantsimpson.net/gs-wp/event/house-concert-with-don-ogilvie/
LOCATION:Woodshine Finishing\, 104 Tungsten Rd.\, Whitehorse\, Yukon\, Canada
CATEGORIES:Upcoming Shows
END:VEVENT
BEGIN:VEVENT
DTSTART;TZID=America/Whitehorse:20110125T190000
DTEND;TZID=America/Whitehorse:20110125T210000
DTSTAMP:20260422T103421
CREATED:20101228T173611Z
LAST-MODIFIED:20110123T192906Z
UID:256-1295982000-1295989200@www.grantsimpson.net
SUMMARY:"Cancelled"  Jazz at the Edge - with Don Ogilvie
DESCRIPTION:This show has been cancelled by the Edgewater. \nIf you’d like to see Don Ogilvie live – he is playing a house concert on 29th of Jan.\nCall MusicYukon for more information:  Steve Gedrose – 456-8742 email: steve@musicyukon.com \n Tuesday\, January 25/11 7:00 – 9:00 pm \nJazz at the Edgewater! \nDon Ogilvie with special guests (come on down to find out who) \nCome on down to the Edgewater to hear Don and other fine Yukon musicians in action together. \n No cover but get there in time to get a table!
URL:https://www.grantsimpson.net/gs-wp/event/jazz-at-the-edge-with-don-ogilvie/
LOCATION:Edgewater Hotel\, 101 Main Street\, Whitehorse\, Yukon\, Canada
CATEGORIES:Upcoming Shows
END:VEVENT
BEGIN:VEVENT
DTSTART;TZID=America/Whitehorse:20110120T200000
DTEND;TZID=America/Whitehorse:20110120T220000
DTSTAMP:20260422T103421
CREATED:20110102T192514Z
LAST-MODIFIED:20110103T152257Z
UID:362-1295553600-1295560800@www.grantsimpson.net
SUMMARY:Rick Keating's Neighbourhood House Open Mic
DESCRIPTION:Once in a while you hear something that you simply can’t let go of.  Two years ago I attended the Atlin Music Festival and went to a workshop with Kate Weekes\, Brenda Berezan and Leslie Alexander.  I had never heard Leslie before and she performed a tune written by Vancouver’s Rick Keating called “Growing the Corn”.  The song captivated me and hasn’t let go since. \nTo make a long story short\, I caught up with Leslie on Facebook and asked her about the song and it’s composer and she told me how to get in touch with him.  I called Rick and had a great discussion with him today and he asked me to do a featured set at his open mic when I’m in Vancouver next.  \nThe date is set as per the upcoming shows.  I really look forward to meeting Rick and hearing more of his songs and to performing some of my songs at his open mic.  \nThanks so much Leslie for your help – and if any of you haven’t checked this lady out yet – you’re really missing something.  http://www.lesliealexander.com/
URL:https://www.grantsimpson.net/gs-wp/event/rick-keatings-neighbourhood-house-open-mic/
LOCATION:Little Mountain Neighbourhood House\, 3981 Main Street at 24th Ave\, Vancouver\, B.C.\, Canada
CATEGORIES:General News,Upcoming Shows
END:VEVENT
BEGIN:VEVENT
DTSTART;TZID=America/Whitehorse:20101231T200000
DTEND;TZID=America/Whitehorse:20110101T010000
DTSTAMP:20260422T103421
CREATED:20101227T183916Z
LAST-MODIFIED:20101230T041745Z
UID:215-1293825600-1293843600@www.grantsimpson.net
SUMMARY:New Years Eve at Tipplers
DESCRIPTION:Live Jazz at Tipplers Pub (the old Capital) on New Years Eve!\n9:00 pm to 1:00 am. \nNew Years Eve at Tipplers Pub \nWith: Grant Simpson (piano) Duncan Sinclair (sax) Jon Heaton (bass) Ken Searcy (drums)\nCome on down and listen or sit in! \nCome and bring in the New Year at Tipplers.\n103 Main Street\nWhitehorse\, YT Y1A 2A7\n633-3742
URL:https://www.grantsimpson.net/gs-wp/event/new-years-eve-at-tipplers/
LOCATION:Tipplers Pub (the Old Capital)\, 103 Main Street\, Whitehorse
CATEGORIES:Upcoming Shows
END:VEVENT
END:VCALENDAR