BEGIN:VCALENDAR
VERSION:2.0
PRODID:-//Grant Simpson Music - ECPv6.15.20//NONSGML v1.0//EN
CALSCALE:GREGORIAN
METHOD:PUBLISH
X-ORIGINAL-URL:https://www.grantsimpson.net/gs-wp
X-WR-CALDESC:Events for Grant Simpson Music
REFRESH-INTERVAL;VALUE=DURATION:PT1H
X-Robots-Tag:noindex
X-PUBLISHED-TTL:PT1H
BEGIN:VTIMEZONE
TZID:America/Whitehorse
BEGIN:DAYLIGHT
TZOFFSETFROM:-0800
TZOFFSETTO:-0700
TZNAME:PDT
DTSTART:20130310T100000
END:DAYLIGHT
BEGIN:STANDARD
TZOFFSETFROM:-0700
TZOFFSETTO:-0800
TZNAME:PST
DTSTART:20131103T090000
END:STANDARD
BEGIN:DAYLIGHT
TZOFFSETFROM:-0800
TZOFFSETTO:-0700
TZNAME:PDT
DTSTART:20140309T100000
END:DAYLIGHT
BEGIN:STANDARD
TZOFFSETFROM:-0700
TZOFFSETTO:-0800
TZNAME:PST
DTSTART:20141102T090000
END:STANDARD
BEGIN:DAYLIGHT
TZOFFSETFROM:-0800
TZOFFSETTO:-0700
TZNAME:PDT
DTSTART:20150308T100000
END:DAYLIGHT
BEGIN:STANDARD
TZOFFSETFROM:-0700
TZOFFSETTO:-0800
TZNAME:PST
DTSTART:20151101T090000
END:STANDARD
BEGIN:DAYLIGHT
TZOFFSETFROM:-0800
TZOFFSETTO:-0700
TZNAME:PDT
DTSTART:20160313T100000
END:DAYLIGHT
BEGIN:STANDARD
TZOFFSETFROM:-0700
TZOFFSETTO:-0800
TZNAME:PST
DTSTART:20161106T090000
END:STANDARD
END:VTIMEZONE
BEGIN:VEVENT
DTSTART;TZID=America/Whitehorse:20150227T200000
DTEND;TZID=America/Whitehorse:20150227T220000
DTSTAMP:20260421T204559
CREATED:20150227T044651Z
LAST-MODIFIED:20150227T044651Z
UID:1270-1425067200-1425074400@www.grantsimpson.net
SUMMARY:Westmark Whitehorse Swing Dance
DESCRIPTION:Swing Dance Yukon in Whitehorse! \nAt the Westmark Whitehorse Ballroom!
URL:https://www.grantsimpson.net/gs-wp/event/westmark-whitehorse-swing-dance/
LOCATION:Westmark Whitehorse Hotel\, Whitehorse\, Yukon\, Canada
END:VEVENT
BEGIN:VEVENT
DTSTART;TZID=America/Whitehorse:20150222T140000
DTEND;TZID=America/Whitehorse:20150222T170000
DTSTAMP:20260421T204559
CREATED:20150202T212935Z
LAST-MODIFIED:20150202T212935Z
UID:1259-1424613600-1424624400@www.grantsimpson.net
SUMMARY:JazzYukon Youth Initiative 2015
DESCRIPTION:I will be working with 3 young Yukon musicians for the month of February. \nOur goal is to produce a full arrangement each to be performed by Big Band. \n \n  \n  \n  \n  \n  \n  \n  \nWeek 1 – discussion\, planning\, thinking\, humming…………………………….. \nI will be sure to post updates when we have them.
URL:https://www.grantsimpson.net/gs-wp/event/jazzyukon-youth-initiative-2015-4/
END:VEVENT
BEGIN:VEVENT
DTSTART;TZID=America/Whitehorse:20150221T080000
DTEND;TZID=America/Whitehorse:20150221T170000
DTSTAMP:20260421T204559
CREATED:20141204T124912Z
LAST-MODIFIED:20141204T124912Z
UID:1242-1424505600-1424538000@www.grantsimpson.net
SUMMARY:Two Piano Tornado at the Yukon Sourdough Rendezvous Festival
DESCRIPTION:
URL:https://www.grantsimpson.net/gs-wp/event/two-piano-tornado-at-the-yukon-sourdough-rendezvous-festival/
LOCATION:Yukon Sourdough Rendezvous\, Yukon\, Canada
END:VEVENT
BEGIN:VEVENT
DTSTART;TZID=America/Whitehorse:20150221T080000
DTEND;TZID=America/Whitehorse:20150221T170000
DTSTAMP:20260421T204559
CREATED:20141204T124258Z
LAST-MODIFIED:20141204T124258Z
UID:1241-1424505600-1424538000@www.grantsimpson.net
SUMMARY:Two Piano Torando at the Wheelhouse Restaurant
DESCRIPTION:
URL:https://www.grantsimpson.net/gs-wp/event/two-piano-torando-at-the-wheelhouse-restaurant/
LOCATION:Wheelhouse Restaurant\, Yukon\, Canada
END:VEVENT
BEGIN:VEVENT
DTSTART;TZID=America/Whitehorse:20150220T080000
DTEND;TZID=America/Whitehorse:20150220T170000
DTSTAMP:20260421T204559
CREATED:20141204T124125Z
LAST-MODIFIED:20141204T124125Z
UID:1240-1424419200-1424451600@www.grantsimpson.net
SUMMARY:Two Piano Tornado at the Wheelhouse Restaurant
DESCRIPTION:
URL:https://www.grantsimpson.net/gs-wp/event/two-piano-tornado-at-the-wheelhouse-restaurant-3/
LOCATION:Wheelhouse Restaurant\, Yukon\, Canada
END:VEVENT
BEGIN:VEVENT
DTSTART;TZID=America/Whitehorse:20150219T080000
DTEND;TZID=America/Whitehorse:20150219T170000
DTSTAMP:20260421T204559
CREATED:20141204T125940Z
LAST-MODIFIED:20141204T130116Z
UID:1244-1424332800-1424365200@www.grantsimpson.net
SUMMARY:Keitha Clark\, Rob Bergman and Grant Simpson at the Yukon Sourdough Rendezvous Festival
DESCRIPTION:The CD Relase show for Keitha’s new CD “Memories for Harrold”
URL:https://www.grantsimpson.net/gs-wp/event/two-piano-tornado-at-the-yukon-sourdough-rendezvous-festival-2/
LOCATION:Yukon Sourdough Rendezvous\, Yukon\, Canada
END:VEVENT
BEGIN:VEVENT
DTSTART;TZID=America/Whitehorse:20150219T080000
DTEND;TZID=America/Whitehorse:20150219T170000
DTSTAMP:20260421T204559
CREATED:20141204T123505Z
LAST-MODIFIED:20141204T123505Z
UID:1239-1424332800-1424365200@www.grantsimpson.net
SUMMARY:Two Piano Tornado at the Wheelhouse Restaurant
DESCRIPTION:
URL:https://www.grantsimpson.net/gs-wp/event/two-piano-tornado-at-the-wheelhouse-restaurant-2/
LOCATION:Wheelhouse Restaurant\, Yukon\, Canada
END:VEVENT
BEGIN:VEVENT
DTSTART;TZID=America/Whitehorse:20150218T080000
DTEND;TZID=America/Whitehorse:20150218T170000
DTSTAMP:20260421T204559
CREATED:20141204T123312Z
LAST-MODIFIED:20141204T123312Z
UID:1236-1424246400-1424278800@www.grantsimpson.net
SUMMARY:Two Piano Tornado at the Wheelhouse Restaurant
DESCRIPTION:4 nights of Two Piano Tornado!
URL:https://www.grantsimpson.net/gs-wp/event/two-piano-tornado-at-the-wheelhouse-restaurant/
LOCATION:Wheelhouse Restaurant\, Yukon\, Canada
END:VEVENT
BEGIN:VEVENT
DTSTART;TZID=America/Whitehorse:20150215T140000
DTEND;TZID=America/Whitehorse:20150215T160000
DTSTAMP:20260421T204559
CREATED:20150202T212837Z
LAST-MODIFIED:20150202T212837Z
UID:1258-1424008800-1424016000@www.grantsimpson.net
SUMMARY:JazzYukon Youth Initiative 2015
DESCRIPTION:I will be working with 3 young Yukon musicians for the month of February. \nOur goal is to produce a full arrangement each to be performed by Big Band. \n \n  \n  \n  \n  \n  \n  \n  \nWeek 1 – discussion\, planning\, thinking\, humming…………………………….. \nI will be sure to post updates when we have them.
URL:https://www.grantsimpson.net/gs-wp/event/jazzyukon-youth-initiative-2015-3/
END:VEVENT
BEGIN:VEVENT
DTSTART;TZID=America/Whitehorse:20150214T080000
DTEND;TZID=America/Whitehorse:20150214T170000
DTSTAMP:20260421T204559
CREATED:20141204T123016Z
LAST-MODIFIED:20141204T123016Z
UID:1235-1423900800-1423933200@www.grantsimpson.net
SUMMARY:Swing Dance in Tagish!
DESCRIPTION:Valentines Day Swing Dance!  IN TAGISH!
URL:https://www.grantsimpson.net/gs-wp/event/swing-dance-in-tagish/
END:VEVENT
BEGIN:VEVENT
DTSTART;TZID=America/Whitehorse:20150208T140000
DTEND;TZID=America/Whitehorse:20150208T160000
DTSTAMP:20260421T204559
CREATED:20150202T212747Z
LAST-MODIFIED:20150202T212747Z
UID:1257-1423404000-1423411200@www.grantsimpson.net
SUMMARY:JazzYukon Youth Initiative 2015
DESCRIPTION:I will be working with 3 young Yukon musicians for the month of February. \nOur goal is to produce a full arrangement each to be performed by Big Band. \n \n  \n  \n  \n  \n  \n  \n  \nWeek 1 – discussion\, planning\, thinking\, humming…………………………….. \nI will be sure to post updates when we have them.
URL:https://www.grantsimpson.net/gs-wp/event/jazzyukon-youth-initiative-2015-2/
END:VEVENT
BEGIN:VEVENT
DTSTART;TZID=America/Whitehorse:20150206T080000
DTEND;TZID=America/Whitehorse:20150206T170000
DTSTAMP:20260421T204559
CREATED:20141204T121921Z
LAST-MODIFIED:20141204T121921Z
UID:1234-1423209600-1423242000@www.grantsimpson.net
SUMMARY:Westmark Whitehorse with Keitha Clark
DESCRIPTION:Striddle!
URL:https://www.grantsimpson.net/gs-wp/event/westmark-whitehorse-with-keitha-clark-2/
LOCATION:Westmark Whitehorse Hotel\, 201 Wood Street\, Whitehorse\, Yukon Territory\, Canada
END:VEVENT
BEGIN:VEVENT
DTSTART;TZID=America/Whitehorse:20150201T140000
DTEND;TZID=America/Whitehorse:20150201T160000
DTSTAMP:20260421T204559
CREATED:20150202T212416Z
LAST-MODIFIED:20150202T212613Z
UID:1255-1422799200-1422806400@www.grantsimpson.net
SUMMARY:JazzYukon Youth Initiative 2015
DESCRIPTION:I will be working with 3 young Yukon musicians for the month of February. \nOur goal is to produce a full arrangement each to be performed by Big Band. \n \n  \n  \n  \n  \n  \n  \n  \nWeek 1 – discussion\, planning\, thinking\, humming…………………………….. \nI will be sure to post updates when we have them.
URL:https://www.grantsimpson.net/gs-wp/event/jazzyukon-youth-initiative-2015/
END:VEVENT
BEGIN:VEVENT
DTSTART;TZID=America/Whitehorse:20150131T080000
DTEND;TZID=America/Whitehorse:20150131T170000
DTSTAMP:20260421T204559
CREATED:20141204T121639Z
LAST-MODIFIED:20141204T121639Z
UID:1232-1422691200-1422723600@www.grantsimpson.net
SUMMARY:Swing Dance at Mt. Lorne
DESCRIPTION:Yup – the Swing Dances begin again!  Can’t wait to be back at Mt Lorne with those wilde swing dancers! \n 
URL:https://www.grantsimpson.net/gs-wp/event/swing-dance-at-mt-lorne/
LOCATION:Lorne Mt. Rec Centre
END:VEVENT
BEGIN:VEVENT
DTSTART;TZID=America/Whitehorse:20150130T080000
DTEND;TZID=America/Whitehorse:20150130T170000
DTSTAMP:20260421T204559
CREATED:20141204T120801Z
LAST-MODIFIED:20141204T120801Z
UID:1231-1422604800-1422637200@www.grantsimpson.net
SUMMARY:Westmark Whitehorse with Keitha Clark
DESCRIPTION:Playing a duo night with Keitha Clark.  Stride and fiddle.  “Striddle Music”
URL:https://www.grantsimpson.net/gs-wp/event/westmark-whitehorse-with-keitha-clark/
LOCATION:Westmark Whitehorse Hotel\, 201 Wood Street\, Whitehorse\, Yukon Territory\, Canada
END:VEVENT
BEGIN:VEVENT
DTSTART;TZID=America/Whitehorse:20150129T080000
DTEND;TZID=America/Whitehorse:20150129T170000
DTSTAMP:20260421T204559
CREATED:20141204T115103Z
LAST-MODIFIED:20141204T115103Z
UID:1230-1422518400-1422550800@www.grantsimpson.net
SUMMARY:Jazz in the Hall with Keitha Clark!
DESCRIPTION:I’m really looking forward to playing the music Keitha has in store for us.  Fiddle Fusion I think it’s called.
URL:https://www.grantsimpson.net/gs-wp/event/jazz-in-the-hall-with-keitha-clark/
LOCATION:Old Fire Hall\, 1st Ave\, Whitehorse\, YT\, Y1A5M2\, Canada
ORGANIZER;CN="Jazz Yukon":MAILTO:grantlsimpson@gmail.com
END:VEVENT
BEGIN:VEVENT
DTSTART;TZID=America/Whitehorse:20150117T190000
DTEND;TZID=America/Whitehorse:20150117T220000
DTSTAMP:20260421T204559
CREATED:20141030T061340Z
LAST-MODIFIED:20141030T061340Z
UID:1222-1421521200-1421532000@www.grantsimpson.net
SUMMARY:Whitehorse\, The Gold Rush Inn with the Swing Band
DESCRIPTION:Annie Avery\, Paul Bergman\, Keitha Clark and Grant Simpson!
URL:https://www.grantsimpson.net/gs-wp/event/whitehorse-the-gold-rush-inn-with-the-swing-band/
END:VEVENT
BEGIN:VEVENT
DTSTART;TZID=America/Whitehorse:20150116T190000
DTEND;TZID=America/Whitehorse:20150116T220000
DTSTAMP:20260421T204559
CREATED:20141030T061241Z
LAST-MODIFIED:20141030T061241Z
UID:1221-1421434800-1421445600@www.grantsimpson.net
SUMMARY:Gold Rush Inn Whitehorse!  With the Swing Band
DESCRIPTION:Annie Avery\, Paul Bergman\, Keitha Clark and Grant Simpson!
URL:https://www.grantsimpson.net/gs-wp/event/gold-rush-inn-whitehorse-with-the-swing-band/
END:VEVENT
BEGIN:VEVENT
DTSTART;TZID=America/Whitehorse:20150110T080000
DTEND;TZID=America/Whitehorse:20150110T170000
DTSTAMP:20260421T204559
CREATED:20141030T061046Z
LAST-MODIFIED:20141030T061046Z
UID:1220-1420876800-1420909200@www.grantsimpson.net
SUMMARY:Thetis Island\, Fundraiser for Orchards for Africa!
DESCRIPTION:With my good pals Wayne and Maureen.  I can’t wait!!!!!
URL:https://www.grantsimpson.net/gs-wp/event/thetis-island-fundraiser-for-orchards-for-africa/
END:VEVENT
BEGIN:VEVENT
DTSTART;TZID=America/Whitehorse:20150109T190000
DTEND;TZID=America/Whitehorse:20150109T210000
DTSTAMP:20260421T204559
CREATED:20141103T233432Z
LAST-MODIFIED:20141229T143236Z
UID:1226-1420830000-1420837200@www.grantsimpson.net
SUMMARY:Port Alberni - Char's Landing
DESCRIPTION:Grant and Kate will be doing a show at Char’s Landing! \n 
URL:https://www.grantsimpson.net/gs-wp/event/port-alberni-chars-landing-2/
LOCATION:Char’s Landing\, Port Alberni\, British Columbia\, Canada
END:VEVENT
BEGIN:VEVENT
DTSTART;TZID=America/Whitehorse:20150108T180000
DTEND;TZID=America/Whitehorse:20150108T210000
DTSTAMP:20260421T204559
CREATED:20141103T232754Z
LAST-MODIFIED:20141229T143023Z
UID:1224-1420740000-1420750800@www.grantsimpson.net
SUMMARY:Port Alberni - Char's Landing
DESCRIPTION:Grant and Kate will be at Char’s Landing for 2 nights!
URL:https://www.grantsimpson.net/gs-wp/event/port-alberni-chars-landing/
LOCATION:Char’s Landing\, Port Alberni\, British Columbia\, Canada
END:VEVENT
BEGIN:VEVENT
DTSTART;TZID=America/Whitehorse:20150107T070000
DTEND;TZID=America/Whitehorse:20150107T210000
DTSTAMP:20260421T204559
CREATED:20141030T060926Z
LAST-MODIFIED:20141229T142855Z
UID:1219-1420614000-1420664400@www.grantsimpson.net
SUMMARY:Duncan Showroom
DESCRIPTION:Playing at the Duncan Showroom with Kate Weekes!
URL:https://www.grantsimpson.net/gs-wp/event/duncan-showroom/
END:VEVENT
BEGIN:VEVENT
DTSTART;TZID=America/Whitehorse:20150104T180000
DTEND;TZID=America/Whitehorse:20150104T210000
DTSTAMP:20260421T204559
CREATED:20141030T060746Z
LAST-MODIFIED:20141229T142732Z
UID:1218-1420394400-1420405200@www.grantsimpson.net
SUMMARY:Courtenay\, Union Street Grill and Grotto
DESCRIPTION:Playing with Kate Weekes at this great little venue in Courtenay!
URL:https://www.grantsimpson.net/gs-wp/event/courtenay-union-street-grill-and-grotto-2/
LOCATION:Union Street Grill and Grotto
END:VEVENT
BEGIN:VEVENT
DTSTART;TZID=America/Whitehorse:20150103T180000
DTEND;TZID=America/Whitehorse:20150103T210000
DTSTAMP:20260421T204559
CREATED:20141030T060614Z
LAST-MODIFIED:20141229T142443Z
UID:1217-1420308000-1420318800@www.grantsimpson.net
SUMMARY:Courtenay - Union Street Grill and Grotto
DESCRIPTION:Playing with Kate Weekes at this great little venue in Courtenay!
URL:https://www.grantsimpson.net/gs-wp/event/courtenay-union-street-grill-and-grotto/
END:VEVENT
BEGIN:VEVENT
DTSTART;TZID=America/Whitehorse:20141222T080000
DTEND;TZID=America/Whitehorse:20150102T170000
DTSTAMP:20260421T204559
CREATED:20141030T060444Z
LAST-MODIFIED:20141030T060444Z
UID:1216-1419235200-1420218000@www.grantsimpson.net
SUMMARY:Malcolm Island\, B.C.
DESCRIPTION:Playing\, writing\, practicing and resting on Malcolm Island. \nI will be playing at the Pub – details tba!
URL:https://www.grantsimpson.net/gs-wp/event/malcolm-island-b-c/
END:VEVENT
BEGIN:VEVENT
DTSTART;VALUE=DATE:20141216
DTEND;VALUE=DATE:20141221
DTSTAMP:20260421T204559
CREATED:20141030T060230Z
LAST-MODIFIED:20141030T060230Z
UID:1215-1418688000-1419119999@www.grantsimpson.net
SUMMARY:VIA Rail - Toronto to Vancouver
DESCRIPTION:Whoooo Hoooooo – Via Rail.  I really love playing this gig!
URL:https://www.grantsimpson.net/gs-wp/event/via-rail-toronto-to-vancouver/
END:VEVENT
BEGIN:VEVENT
DTSTART;TZID=America/Whitehorse:20141213T080000
DTEND;TZID=America/Whitehorse:20141213T170000
DTSTAMP:20260421T204559
CREATED:20140930T230736Z
LAST-MODIFIED:20140930T230736Z
UID:1184-1418457600-1418490000@www.grantsimpson.net
SUMMARY:Guelph Ontario with Kate Weekes
DESCRIPTION:
URL:https://www.grantsimpson.net/gs-wp/event/guelph-ontario-with-kate-weekes/
END:VEVENT
BEGIN:VEVENT
DTSTART;TZID=America/Whitehorse:20141211T080000
DTEND;TZID=America/Whitehorse:20141211T170000
DTSTAMP:20260421T204559
CREATED:20140930T230649Z
LAST-MODIFIED:20140930T230649Z
UID:1183-1418284800-1418317200@www.grantsimpson.net
SUMMARY:London\, Ontario with Kate Weekes
DESCRIPTION:
URL:https://www.grantsimpson.net/gs-wp/event/london-ontario-with-kate-weekes/
END:VEVENT
BEGIN:VEVENT
DTSTART;TZID=America/Whitehorse:20141210T080000
DTEND;TZID=America/Whitehorse:20141210T170000
DTSTAMP:20260421T204559
CREATED:20140930T230548Z
LAST-MODIFIED:20140930T230607Z
UID:1182-1418198400-1418230800@www.grantsimpson.net
SUMMARY:Oakville\, Ont with Kate Weekes
DESCRIPTION:
URL:https://www.grantsimpson.net/gs-wp/event/oakville-ont-with-kate-weekes/
END:VEVENT
BEGIN:VEVENT
DTSTART;TZID=America/Whitehorse:20141207T080000
DTEND;TZID=America/Whitehorse:20141207T170000
DTSTAMP:20260421T204559
CREATED:20140930T230509Z
LAST-MODIFIED:20140930T230509Z
UID:1181-1417939200-1417971600@www.grantsimpson.net
SUMMARY:Dundas\, Ontario - with Kate Weekes
DESCRIPTION:
URL:https://www.grantsimpson.net/gs-wp/event/dundas-ontario-with-kate-weekes/
END:VEVENT
END:VCALENDAR