BEGIN:VCALENDAR
VERSION:2.0
PRODID:-//Grant Simpson Music - ECPv6.15.20//NONSGML v1.0//EN
CALSCALE:GREGORIAN
METHOD:PUBLISH
X-ORIGINAL-URL:https://www.grantsimpson.net/gs-wp
X-WR-CALDESC:Events for Grant Simpson Music
REFRESH-INTERVAL;VALUE=DURATION:PT1H
X-Robots-Tag:noindex
X-PUBLISHED-TTL:PT1H
BEGIN:VTIMEZONE
TZID:America/Whitehorse
BEGIN:DAYLIGHT
TZOFFSETFROM:-0800
TZOFFSETTO:-0700
TZNAME:PDT
DTSTART:20140309T100000
END:DAYLIGHT
BEGIN:STANDARD
TZOFFSETFROM:-0700
TZOFFSETTO:-0800
TZNAME:PST
DTSTART:20141102T090000
END:STANDARD
BEGIN:DAYLIGHT
TZOFFSETFROM:-0800
TZOFFSETTO:-0700
TZNAME:PDT
DTSTART:20150308T100000
END:DAYLIGHT
BEGIN:STANDARD
TZOFFSETFROM:-0700
TZOFFSETTO:-0800
TZNAME:PST
DTSTART:20151101T090000
END:STANDARD
BEGIN:DAYLIGHT
TZOFFSETFROM:-0800
TZOFFSETTO:-0700
TZNAME:PDT
DTSTART:20160313T100000
END:DAYLIGHT
BEGIN:STANDARD
TZOFFSETFROM:-0700
TZOFFSETTO:-0800
TZNAME:PST
DTSTART:20161106T090000
END:STANDARD
BEGIN:DAYLIGHT
TZOFFSETFROM:-0800
TZOFFSETTO:-0700
TZNAME:PDT
DTSTART:20170312T100000
END:DAYLIGHT
BEGIN:STANDARD
TZOFFSETFROM:-0700
TZOFFSETTO:-0800
TZNAME:PST
DTSTART:20171105T090000
END:STANDARD
BEGIN:DAYLIGHT
TZOFFSETFROM:-0800
TZOFFSETTO:-0700
TZNAME:PDT
DTSTART:20180311T100000
END:DAYLIGHT
BEGIN:STANDARD
TZOFFSETFROM:-0700
TZOFFSETTO:-0800
TZNAME:PST
DTSTART:20181104T090000
END:STANDARD
BEGIN:DAYLIGHT
TZOFFSETFROM:-0800
TZOFFSETTO:-0700
TZNAME:PDT
DTSTART:20190310T100000
END:DAYLIGHT
BEGIN:STANDARD
TZOFFSETFROM:-0700
TZOFFSETTO:-0800
TZNAME:PST
DTSTART:20191103T090000
END:STANDARD
BEGIN:DAYLIGHT
TZOFFSETFROM:-0800
TZOFFSETTO:-0700
TZNAME:PDT
DTSTART:20200308T100000
END:DAYLIGHT
BEGIN:STANDARD
TZOFFSETFROM:-0700
TZOFFSETTO:-0700
TZNAME:MST
DTSTART:20201101T070000
END:STANDARD
END:VTIMEZONE
BEGIN:VEVENT
DTSTART;TZID=America/Whitehorse:20190214T163000
DTEND;TZID=America/Whitehorse:20190214T173000
DTSTAMP:20260421T185425
CREATED:20190116T225838Z
LAST-MODIFIED:20190116T230757Z
UID:1585-1550161800-1550165400@www.grantsimpson.net
SUMMARY:Dinner Piano at Riverwood Square
DESCRIPTION:Grant will be playing nostalgic favorites for the dinning pleasure of the Riverwood Square community.
URL:https://www.grantsimpson.net/gs-wp/event/dinner-piano-at-riverwood-square/
END:VEVENT
BEGIN:VEVENT
DTSTART;TZID=America/Whitehorse:20190214T150000
DTEND;TZID=America/Whitehorse:20190214T160000
DTSTAMP:20260421T185425
CREATED:20190116T225724Z
LAST-MODIFIED:20190116T230707Z
UID:1582-1550156400-1550160000@www.grantsimpson.net
SUMMARY:Silent Movie Hour at Riverwood Square
DESCRIPTION:Join Grant as he presents and plays for silent movie shorts of the golden era! \n 
URL:https://www.grantsimpson.net/gs-wp/event/silent-movie-hour-at-riverwood-square/
LOCATION:Riverwood Square
END:VEVENT
BEGIN:VEVENT
DTSTART;TZID=America/Whitehorse:20190214T130000
DTEND;TZID=America/Whitehorse:20190214T143000
DTSTAMP:20260421T185425
CREATED:20190116T230502Z
LAST-MODIFIED:20190116T230502Z
UID:1587-1550149200-1550154600@www.grantsimpson.net
SUMMARY:Swing Dance at Lions Manor
DESCRIPTION:Join Grant as he plays for the dancing please of the Lions Manor Community.
URL:https://www.grantsimpson.net/gs-wp/event/swing-dance-at-lions-manor/
LOCATION:Lions Manor\, 320 Sherbrook Street\, Winnipeg\, MB
END:VEVENT
BEGIN:VEVENT
DTSTART;TZID=America/Whitehorse:20190202T190000
DTEND;TZID=America/Whitehorse:20190202T220000
DTSTAMP:20260421T185425
CREATED:20190116T225412Z
LAST-MODIFIED:20190116T225514Z
UID:1577-1549134000-1549144800@www.grantsimpson.net
SUMMARY:Winnipeg Harvest Fundraiser
DESCRIPTION:Jonesy & Simpson take the stage with their usual mix of 1920s hot jazz\, sultry blues and rompin rags. \nWe are so proud to be a part of this great fundraiser and to work with such an active community.
URL:https://www.grantsimpson.net/gs-wp/event/winnipeg-harvest-fundraiser/
LOCATION:St. James Anglican Church\, 195 Collegiate St\, Winnipeg\, Manitoba\, R3J 1T9\, Canada
END:VEVENT
BEGIN:VEVENT
DTSTART;TZID=America/Whitehorse:20190116T130000
DTEND;TZID=America/Whitehorse:20190116T140000
DTSTAMP:20260421T185425
CREATED:20190116T222937Z
LAST-MODIFIED:20190116T224455Z
UID:1570-1547643600-1547647200@www.grantsimpson.net
SUMMARY:Southdale Community Centre
DESCRIPTION:It’s Vaudeville Time! \nGrant performs his one-man vaudeville show including songs inspired by the times of Prohibition\, Bobbed Hair\, Ragtime\, Hot Jazz\, Blues\, Comedy and more.  His act also includes musical saw\, guitar and banjo and plenty of laughs along the way. \n1:00-2:00pm \nAt Southdale Community Centre
URL:https://www.grantsimpson.net/gs-wp/event/southdale-community-centre/
END:VEVENT
BEGIN:VEVENT
DTSTART;TZID=America/Whitehorse:20151002T043000
DTEND;TZID=America/Whitehorse:20151002T191500
DTSTAMP:20260421T185425
CREATED:20140930T221601Z
LAST-MODIFIED:20140930T221704Z
UID:1171-1443760200-1443813300@www.grantsimpson.net
SUMMARY:The Basement - Saskatoon
DESCRIPTION:Looking forward to playing the piano slot at the Basement Jazz Club in Saskatoon \n 
URL:https://www.grantsimpson.net/gs-wp/event/the-basement-saskatoon/
LOCATION:The Basement\, 202 4 Ave N\, Saskatoon\, SASK
END:VEVENT
BEGIN:VEVENT
DTSTART;TZID=America/Whitehorse:20150509T080000
DTEND;TZID=America/Whitehorse:20150509T170000
DTSTAMP:20260421T185425
CREATED:20150227T053428Z
LAST-MODIFIED:20150227T053428Z
UID:1290-1431158400-1431190800@www.grantsimpson.net
SUMMARY:House Concert in Whitehorse
DESCRIPTION:Details TBA
URL:https://www.grantsimpson.net/gs-wp/event/house-concert-in-whitehorse/
END:VEVENT
BEGIN:VEVENT
DTSTART;VALUE=DATE:20150505
DTEND;VALUE=DATE:20150902
DTSTAMP:20260421T185425
CREATED:20150227T053608Z
LAST-MODIFIED:20150227T053608Z
UID:1291-1430784000-1441151999@www.grantsimpson.net
SUMMARY:Frantic Follies Vaudeville Revue
DESCRIPTION:
URL:https://www.grantsimpson.net/gs-wp/event/frantic-follies-vaudeville-revue-3/
LOCATION:Frantic Follies Vaudeville Revue\, 202 Wood Street\, Whitehorse\, Yukon\, Canada
END:VEVENT
BEGIN:VEVENT
DTSTART;TZID=America/Whitehorse:20150424T190000
DTEND;TZID=America/Whitehorse:20150424T210000
DTSTAMP:20260421T185425
CREATED:20150227T052646Z
LAST-MODIFIED:20150227T052646Z
UID:1286-1429902000-1429909200@www.grantsimpson.net
SUMMARY:Sointula at the End of the Road Endevours
DESCRIPTION:
URL:https://www.grantsimpson.net/gs-wp/event/sointula-at-the-end-of-the-road-endevours/
END:VEVENT
BEGIN:VEVENT
DTSTART;TZID=America/Whitehorse:20150423T190000
DTEND;TZID=America/Whitehorse:20150423T210000
DTSTAMP:20260421T185425
CREATED:20150227T052406Z
LAST-MODIFIED:20150227T052406Z
UID:1284-1429815600-1429822800@www.grantsimpson.net
SUMMARY:Port McNeil at the Gatehouse Theatre!
DESCRIPTION:
URL:https://www.grantsimpson.net/gs-wp/event/port-mcneil-at-the-gatehouse-theatre/
END:VEVENT
BEGIN:VEVENT
DTSTART;TZID=America/Whitehorse:20150418T190000
DTEND;TZID=America/Whitehorse:20150418T210000
DTSTAMP:20260421T185425
CREATED:20150227T052111Z
LAST-MODIFIED:20150227T053312Z
UID:1282-1429383600-1429390800@www.grantsimpson.net
SUMMARY:Courtenay at the Union Street Grill and Grotto!
DESCRIPTION:
URL:https://www.grantsimpson.net/gs-wp/event/courtenay-at-the-union-street-grill-and-grotto/
END:VEVENT
BEGIN:VEVENT
DTSTART;TZID=America/Whitehorse:20150411T190000
DTEND;TZID=America/Whitehorse:20150411T210000
DTSTAMP:20260421T185425
CREATED:20150227T050320Z
LAST-MODIFIED:20150227T050320Z
UID:1280-1428778800-1428786000@www.grantsimpson.net
SUMMARY:Smithers at the Two Sisters Cafe!
DESCRIPTION:
URL:https://www.grantsimpson.net/gs-wp/event/smithers-at-the-two-sisters-cafe/
END:VEVENT
BEGIN:VEVENT
DTSTART;TZID=America/Whitehorse:20150408T190000
DTEND;TZID=America/Whitehorse:20150408T220000
DTSTAMP:20260421T185425
CREATED:20141204T020934Z
LAST-MODIFIED:20141204T020934Z
UID:1228-1428519600-1428530400@www.grantsimpson.net
SUMMARY:Grant Simpson at the Elephant's Ear in Terrace\, B.C.
DESCRIPTION:4613 Lakelse Ave\nTerrace\, British Columbia\n\n\n\n\n\n(250) 615-0444\n\n\n\n\n\nOpen\nToday 7:00am – 9:00pm\n\n\n\n\nPrice Range: $\n\n\n\n\n\nhttp://www.elephantsear.ca/
URL:https://www.grantsimpson.net/gs-wp/event/grant-simpson-at-the-elephants-ear-in-terrace-b-c/
LOCATION:The Elephant’s Ear\, 4613 Lakelse Ave\, Terrace\, British Columbia\, Canada
END:VEVENT
BEGIN:VEVENT
DTSTART;TZID=America/Whitehorse:20150408T190000
DTEND;TZID=America/Whitehorse:20150408T210000
DTSTAMP:20260421T185425
CREATED:20150227T050059Z
LAST-MODIFIED:20150227T050138Z
UID:1278-1428519600-1428526800@www.grantsimpson.net
SUMMARY:Terrace BC at the Elephant's Ear!
DESCRIPTION:
URL:https://www.grantsimpson.net/gs-wp/event/terrace-bc-at-the-elephants-ear/
END:VEVENT
BEGIN:VEVENT
DTSTART;TZID=America/Whitehorse:20150404T190000
DTEND;TZID=America/Whitehorse:20150404T210000
DTSTAMP:20260421T185425
CREATED:20150227T045507Z
LAST-MODIFIED:20150227T045507Z
UID:1276-1428174000-1428181200@www.grantsimpson.net
SUMMARY:House Concert in Prince Rupert
DESCRIPTION:Contact me for details:  grantsimpsonmusic@gmail.com
URL:https://www.grantsimpson.net/gs-wp/event/house-concert-in-prince-rupert/
END:VEVENT
BEGIN:VEVENT
DTSTART;VALUE=DATE:20150326
DTEND;VALUE=DATE:20150403
DTSTAMP:20260421T185425
CREATED:20150227T045246Z
LAST-MODIFIED:20150227T045724Z
UID:1275-1427328000-1428019199@www.grantsimpson.net
SUMMARY:Haida Gwaii
DESCRIPTION:I am SO excited about going to and performing on Haida Gwaii! \n 
URL:https://www.grantsimpson.net/gs-wp/event/haida-gwaii/
END:VEVENT
BEGIN:VEVENT
DTSTART;TZID=America/Whitehorse:20150325T140000
DTEND;TZID=America/Whitehorse:20150325T150000
DTSTAMP:20260421T185425
CREATED:20150227T044950Z
LAST-MODIFIED:20150227T044950Z
UID:1273-1427292000-1427295600@www.grantsimpson.net
SUMMARY:Living a Ragtime Life in Prince Rupert
DESCRIPTION:
URL:https://www.grantsimpson.net/gs-wp/event/living-a-ragtime-life-in-prince-rupert/
END:VEVENT
BEGIN:VEVENT
DTSTART;TZID=America/Whitehorse:20150320T190000
DTEND;TZID=America/Whitehorse:20150321T210000
DTSTAMP:20260421T185425
CREATED:20150225T182827Z
LAST-MODIFIED:20150225T182827Z
UID:1267-1426878000-1426971600@www.grantsimpson.net
SUMMARY:Solo Show in Jasper\, Alberta
DESCRIPTION:
URL:https://www.grantsimpson.net/gs-wp/event/solo-show-in-jasper-alberta/
END:VEVENT
BEGIN:VEVENT
DTSTART;VALUE=DATE:20150313
DTEND;VALUE=DATE:20150319
DTSTAMP:20260421T185425
CREATED:20150202T214043Z
LAST-MODIFIED:20150225T181059Z
UID:1262-1426204800-1426723199@www.grantsimpson.net
SUMMARY:Two Piano Tornado Tours Manitoba
DESCRIPTION:Two Piano Tornado will hit the road again with a series of House Concerts in Manitoba in March. \nFriday\, March 13th MacGregor\, MB\nSaturday\, March 14th Winnipeg\, MB\nSunday\, March 15th Souris\, MB\nMonday\, March 16th Brandon\, MB\nTuesday\, March 17th Brandon\, MB\nWed\, March 18th Kenton\, MB \ncontact Annie to make arrangements to attend\none of these concerts by email: anniepiani@gmail.com \n 
URL:https://www.grantsimpson.net/gs-wp/event/two-piano-tornado-macgregor/
END:VEVENT
BEGIN:VEVENT
DTSTART;TZID=America/Whitehorse:20150228T080000
DTEND;TZID=America/Whitehorse:20150228T170000
DTSTAMP:20260421T185425
CREATED:20141204T131822Z
LAST-MODIFIED:20141204T131822Z
UID:1246-1425110400-1425142800@www.grantsimpson.net
SUMMARY:Swing Dance in Haines Junction!
DESCRIPTION:The full band!
URL:https://www.grantsimpson.net/gs-wp/event/swing-dance-in-haines-junction/
LOCATION:Haines Junction
END:VEVENT
BEGIN:VEVENT
DTSTART;TZID=America/Whitehorse:20150227T200000
DTEND;TZID=America/Whitehorse:20150227T220000
DTSTAMP:20260421T185425
CREATED:20150227T044651Z
LAST-MODIFIED:20150227T044651Z
UID:1270-1425067200-1425074400@www.grantsimpson.net
SUMMARY:Westmark Whitehorse Swing Dance
DESCRIPTION:Swing Dance Yukon in Whitehorse! \nAt the Westmark Whitehorse Ballroom!
URL:https://www.grantsimpson.net/gs-wp/event/westmark-whitehorse-swing-dance/
LOCATION:Westmark Whitehorse Hotel\, Whitehorse\, Yukon\, Canada
END:VEVENT
BEGIN:VEVENT
DTSTART;TZID=America/Whitehorse:20150222T140000
DTEND;TZID=America/Whitehorse:20150222T170000
DTSTAMP:20260421T185425
CREATED:20150202T212935Z
LAST-MODIFIED:20150202T212935Z
UID:1259-1424613600-1424624400@www.grantsimpson.net
SUMMARY:JazzYukon Youth Initiative 2015
DESCRIPTION:I will be working with 3 young Yukon musicians for the month of February. \nOur goal is to produce a full arrangement each to be performed by Big Band. \n \n  \n  \n  \n  \n  \n  \n  \nWeek 1 – discussion\, planning\, thinking\, humming…………………………….. \nI will be sure to post updates when we have them.
URL:https://www.grantsimpson.net/gs-wp/event/jazzyukon-youth-initiative-2015-4/
END:VEVENT
BEGIN:VEVENT
DTSTART;TZID=America/Whitehorse:20150221T080000
DTEND;TZID=America/Whitehorse:20150221T170000
DTSTAMP:20260421T185425
CREATED:20141204T124912Z
LAST-MODIFIED:20141204T124912Z
UID:1242-1424505600-1424538000@www.grantsimpson.net
SUMMARY:Two Piano Tornado at the Yukon Sourdough Rendezvous Festival
DESCRIPTION:
URL:https://www.grantsimpson.net/gs-wp/event/two-piano-tornado-at-the-yukon-sourdough-rendezvous-festival/
LOCATION:Yukon Sourdough Rendezvous\, Yukon\, Canada
END:VEVENT
BEGIN:VEVENT
DTSTART;TZID=America/Whitehorse:20150221T080000
DTEND;TZID=America/Whitehorse:20150221T170000
DTSTAMP:20260421T185425
CREATED:20141204T124258Z
LAST-MODIFIED:20141204T124258Z
UID:1241-1424505600-1424538000@www.grantsimpson.net
SUMMARY:Two Piano Torando at the Wheelhouse Restaurant
DESCRIPTION:
URL:https://www.grantsimpson.net/gs-wp/event/two-piano-torando-at-the-wheelhouse-restaurant/
LOCATION:Wheelhouse Restaurant\, Yukon\, Canada
END:VEVENT
BEGIN:VEVENT
DTSTART;TZID=America/Whitehorse:20150220T080000
DTEND;TZID=America/Whitehorse:20150220T170000
DTSTAMP:20260421T185425
CREATED:20141204T124125Z
LAST-MODIFIED:20141204T124125Z
UID:1240-1424419200-1424451600@www.grantsimpson.net
SUMMARY:Two Piano Tornado at the Wheelhouse Restaurant
DESCRIPTION:
URL:https://www.grantsimpson.net/gs-wp/event/two-piano-tornado-at-the-wheelhouse-restaurant-3/
LOCATION:Wheelhouse Restaurant\, Yukon\, Canada
END:VEVENT
BEGIN:VEVENT
DTSTART;TZID=America/Whitehorse:20150219T080000
DTEND;TZID=America/Whitehorse:20150219T170000
DTSTAMP:20260421T185425
CREATED:20141204T125940Z
LAST-MODIFIED:20141204T130116Z
UID:1244-1424332800-1424365200@www.grantsimpson.net
SUMMARY:Keitha Clark\, Rob Bergman and Grant Simpson at the Yukon Sourdough Rendezvous Festival
DESCRIPTION:The CD Relase show for Keitha’s new CD “Memories for Harrold”
URL:https://www.grantsimpson.net/gs-wp/event/two-piano-tornado-at-the-yukon-sourdough-rendezvous-festival-2/
LOCATION:Yukon Sourdough Rendezvous\, Yukon\, Canada
END:VEVENT
BEGIN:VEVENT
DTSTART;TZID=America/Whitehorse:20150219T080000
DTEND;TZID=America/Whitehorse:20150219T170000
DTSTAMP:20260421T185425
CREATED:20141204T123505Z
LAST-MODIFIED:20141204T123505Z
UID:1239-1424332800-1424365200@www.grantsimpson.net
SUMMARY:Two Piano Tornado at the Wheelhouse Restaurant
DESCRIPTION:
URL:https://www.grantsimpson.net/gs-wp/event/two-piano-tornado-at-the-wheelhouse-restaurant-2/
LOCATION:Wheelhouse Restaurant\, Yukon\, Canada
END:VEVENT
BEGIN:VEVENT
DTSTART;TZID=America/Whitehorse:20150218T080000
DTEND;TZID=America/Whitehorse:20150218T170000
DTSTAMP:20260421T185425
CREATED:20141204T123312Z
LAST-MODIFIED:20141204T123312Z
UID:1236-1424246400-1424278800@www.grantsimpson.net
SUMMARY:Two Piano Tornado at the Wheelhouse Restaurant
DESCRIPTION:4 nights of Two Piano Tornado!
URL:https://www.grantsimpson.net/gs-wp/event/two-piano-tornado-at-the-wheelhouse-restaurant/
LOCATION:Wheelhouse Restaurant\, Yukon\, Canada
END:VEVENT
BEGIN:VEVENT
DTSTART;TZID=America/Whitehorse:20150215T140000
DTEND;TZID=America/Whitehorse:20150215T160000
DTSTAMP:20260421T185425
CREATED:20150202T212837Z
LAST-MODIFIED:20150202T212837Z
UID:1258-1424008800-1424016000@www.grantsimpson.net
SUMMARY:JazzYukon Youth Initiative 2015
DESCRIPTION:I will be working with 3 young Yukon musicians for the month of February. \nOur goal is to produce a full arrangement each to be performed by Big Band. \n \n  \n  \n  \n  \n  \n  \n  \nWeek 1 – discussion\, planning\, thinking\, humming…………………………….. \nI will be sure to post updates when we have them.
URL:https://www.grantsimpson.net/gs-wp/event/jazzyukon-youth-initiative-2015-3/
END:VEVENT
BEGIN:VEVENT
DTSTART;TZID=America/Whitehorse:20150214T080000
DTEND;TZID=America/Whitehorse:20150214T170000
DTSTAMP:20260421T185425
CREATED:20141204T123016Z
LAST-MODIFIED:20141204T123016Z
UID:1235-1423900800-1423933200@www.grantsimpson.net
SUMMARY:Swing Dance in Tagish!
DESCRIPTION:Valentines Day Swing Dance!  IN TAGISH!
URL:https://www.grantsimpson.net/gs-wp/event/swing-dance-in-tagish/
END:VEVENT
END:VCALENDAR