BEGIN:VCALENDAR
VERSION:2.0
PRODID:-//Grant Simpson Music - ECPv6.15.20//NONSGML v1.0//EN
CALSCALE:GREGORIAN
METHOD:PUBLISH
X-ORIGINAL-URL:https://www.grantsimpson.net/gs-wp
X-WR-CALDESC:Events for Grant Simpson Music
REFRESH-INTERVAL;VALUE=DURATION:PT1H
X-Robots-Tag:noindex
X-PUBLISHED-TTL:PT1H
BEGIN:VTIMEZONE
TZID:America/Winnipeg
BEGIN:DAYLIGHT
TZOFFSETFROM:-0600
TZOFFSETTO:-0500
TZNAME:CDT
DTSTART:20200308T080000
END:DAYLIGHT
BEGIN:STANDARD
TZOFFSETFROM:-0500
TZOFFSETTO:-0600
TZNAME:CST
DTSTART:20201101T070000
END:STANDARD
BEGIN:DAYLIGHT
TZOFFSETFROM:-0600
TZOFFSETTO:-0500
TZNAME:CDT
DTSTART:20210314T080000
END:DAYLIGHT
BEGIN:STANDARD
TZOFFSETFROM:-0500
TZOFFSETTO:-0600
TZNAME:CST
DTSTART:20211107T070000
END:STANDARD
BEGIN:DAYLIGHT
TZOFFSETFROM:-0600
TZOFFSETTO:-0500
TZNAME:CDT
DTSTART:20220313T080000
END:DAYLIGHT
BEGIN:STANDARD
TZOFFSETFROM:-0500
TZOFFSETTO:-0600
TZNAME:CST
DTSTART:20221106T070000
END:STANDARD
END:VTIMEZONE
BEGIN:VTIMEZONE
TZID:America/Whitehorse
BEGIN:DAYLIGHT
TZOFFSETFROM:-0800
TZOFFSETTO:-0700
TZNAME:PDT
DTSTART:20140309T100000
END:DAYLIGHT
BEGIN:STANDARD
TZOFFSETFROM:-0700
TZOFFSETTO:-0800
TZNAME:PST
DTSTART:20141102T090000
END:STANDARD
BEGIN:DAYLIGHT
TZOFFSETFROM:-0800
TZOFFSETTO:-0700
TZNAME:PDT
DTSTART:20150308T100000
END:DAYLIGHT
BEGIN:STANDARD
TZOFFSETFROM:-0700
TZOFFSETTO:-0800
TZNAME:PST
DTSTART:20151101T090000
END:STANDARD
BEGIN:DAYLIGHT
TZOFFSETFROM:-0800
TZOFFSETTO:-0700
TZNAME:PDT
DTSTART:20160313T100000
END:DAYLIGHT
BEGIN:STANDARD
TZOFFSETFROM:-0700
TZOFFSETTO:-0800
TZNAME:PST
DTSTART:20161106T090000
END:STANDARD
BEGIN:DAYLIGHT
TZOFFSETFROM:-0800
TZOFFSETTO:-0700
TZNAME:PDT
DTSTART:20170312T100000
END:DAYLIGHT
BEGIN:STANDARD
TZOFFSETFROM:-0700
TZOFFSETTO:-0800
TZNAME:PST
DTSTART:20171105T090000
END:STANDARD
BEGIN:DAYLIGHT
TZOFFSETFROM:-0800
TZOFFSETTO:-0700
TZNAME:PDT
DTSTART:20180311T100000
END:DAYLIGHT
BEGIN:STANDARD
TZOFFSETFROM:-0700
TZOFFSETTO:-0800
TZNAME:PST
DTSTART:20181104T090000
END:STANDARD
BEGIN:DAYLIGHT
TZOFFSETFROM:-0800
TZOFFSETTO:-0700
TZNAME:PDT
DTSTART:20190310T100000
END:DAYLIGHT
BEGIN:STANDARD
TZOFFSETFROM:-0700
TZOFFSETTO:-0800
TZNAME:PST
DTSTART:20191103T090000
END:STANDARD
BEGIN:DAYLIGHT
TZOFFSETFROM:-0800
TZOFFSETTO:-0700
TZNAME:PDT
DTSTART:20200308T100000
END:DAYLIGHT
BEGIN:STANDARD
TZOFFSETFROM:-0700
TZOFFSETTO:-0700
TZNAME:MST
DTSTART:20201101T070000
END:STANDARD
END:VTIMEZONE
BEGIN:VEVENT
DTSTART;TZID=America/Winnipeg:20211124T130000
DTEND;TZID=America/Winnipeg:20211124T140000
DTSTAMP:20260421T165618
CREATED:20211104T195649Z
LAST-MODIFIED:20211104T195649Z
UID:2263-1637758800-1637762400@www.grantsimpson.net
SUMMARY:Online Jammers
DESCRIPTION:The online jammers meet every Wed at 1:00pm via Zoom to play through songs in the Hopeful Jammers Book.    You can sign-up by emailing:  Sandi Howell sandrah2dogs@gmail.com . \nYou can download the Jam Book here:  Hopeful Jammers Book – 2021 \n 
URL:https://www.grantsimpson.net/gs-wp/event/online-jammers-4/
LOCATION:MB
END:VEVENT
BEGIN:VEVENT
DTSTART;TZID=America/Winnipeg:20211123T190000
DTEND;TZID=America/Winnipeg:20211123T210000
DTSTAMP:20260421T165618
CREATED:20211103T002421Z
LAST-MODIFIED:20211103T002421Z
UID:2142-1637694000-1637701200@www.grantsimpson.net
SUMMARY:Cafe des Voix at Gordies!
DESCRIPTION:
URL:https://www.grantsimpson.net/gs-wp/event/cafe-des-voix-at-gordies/
LOCATION:Gordies\, 127 Cobourg Avenue\, Winnipeg\, MB\, R2L 0H4\, Canada
END:VEVENT
BEGIN:VEVENT
DTSTART;TZID=America/Winnipeg:20211123T130000
DTEND;TZID=America/Winnipeg:20211123T140000
DTSTAMP:20260421T165618
CREATED:20211102T222957Z
LAST-MODIFIED:20211102T222957Z
UID:2133-1637672400-1637676000@www.grantsimpson.net
SUMMARY:2nd Class - Basic Chord Progressions
DESCRIPTION:Understanding Basic Chord Progressions\nThree one-hour Workshops on Zoom\nThis is a basic introductory level to chord patterns (progressions) and how they work. \nSession one:  We will answer the question “Why do they refer to the chords by numbers?” as in a 1-4-5.   And then to make matters even more confusing –  “Why do they sometimes refer to notes as numbers?”  as in “The 3rd or The 9th”. \nIf I can give you all a good understanding of those two questions in the first session – we will have really got somewhere.  It’s a bit of a tangle to explain it\, so I will have it spelled out as clearly as I can on paper for you to see as we go through it.  \nSession two:  Now that we understand how the numbers work – we will look at the different combinations of chord patterns or progressions.  This is the basic foundation of how all songs are created.  All melodies and words ride on top of “chord progressions”.  So understanding them will really help you understand the songs you are playing in a whole new way. \nSession three:   We will analyze songs from our hopeful jammers book together so we can put all our new knowledge to work.  Plus we will have some listening tests to see if we can identify the chord progressions just by hearing them.  \nDetails and sign-up:\n3 – one hour classes on Zoom. \nNovember 16\, 2021 1:00pm \nNovember 23\, 2021 1:00pm \nNovember 30\, 2021 1:00pm \nRegister online:  https://cafedesvoix.as.me/chords \nCost:  $10 x 3 = $30.00 \nPayments can be made on-line when registering or if you would prefer to email transfer\, you can send it to grantsimpsonmusic@gmail.com \nOr you can mail it to:  Grant Simpson.  305 Bowman Ave.  Winnipeg\, MB.  R2K 1P3.  \nIf you have any questions\, email me or text me at 431-373-3108 and we can set up a phone chat.  
URL:https://www.grantsimpson.net/gs-wp/event/2nd-class-basic-chord-progressions/
LOCATION:MB
END:VEVENT
BEGIN:VEVENT
DTSTART;TZID=America/Winnipeg:20211122T130000
DTEND;TZID=America/Winnipeg:20211122T150000
DTSTAMP:20260421T165618
CREATED:20211103T164750Z
LAST-MODIFIED:20211103T164750Z
UID:2211-1637586000-1637593200@www.grantsimpson.net
SUMMARY:Hopeful Jammers
DESCRIPTION:The Hopeful Jammers is a gathering of seniors who want to learn how to play music together – to jam together. \nEvery Monday at 1:00pm we gather at the Crescent Fort Rouge United Church to work through our tunes and to add new ones. \nIf you would like to join the group you can contact:  Sandi Howell by email: sandrah2dogs@gmail.com   Sandi will send you a copy of the jam book and get you on our email list. \nThe class is by volunteer donation. \nThe Hopeful Jammers is supported by The Crescent Fort Rouge United 55+ Seniors Program (thank you thank you thank you!)
URL:https://www.grantsimpson.net/gs-wp/event/hopeful-jammers-4/
LOCATION:MB
END:VEVENT
BEGIN:VEVENT
DTSTART;TZID=America/Winnipeg:20211117T190000
DTEND;TZID=America/Winnipeg:20211117T210000
DTSTAMP:20260421T165618
CREATED:20211102T233138Z
LAST-MODIFIED:20211102T233138Z
UID:2138-1637175600-1637182800@www.grantsimpson.net
SUMMARY:Cafe Rouge
DESCRIPTION:Cafe Rouge is a showcase of Cafe des Voix singers presenting the songs they have been working on.  Admission by donation. \n 
URL:https://www.grantsimpson.net/gs-wp/event/cafe-rouge/
LOCATION:Crescent Fort Rouge\, 525 Wardlaw Ave\, Winnipeg\, MB\, R3L 0L9\, Canada
END:VEVENT
BEGIN:VEVENT
DTSTART;TZID=America/Winnipeg:20211117T130000
DTEND;TZID=America/Winnipeg:20211117T140000
DTSTAMP:20260421T165618
CREATED:20211104T195602Z
LAST-MODIFIED:20211104T195602Z
UID:2261-1637154000-1637157600@www.grantsimpson.net
SUMMARY:Online Jammers
DESCRIPTION:The online jammers meet every Wed at 1:00pm via Zoom to play through songs in the Hopeful Jammers Book.    You can sign-up by emailing:  Sandi Howell sandrah2dogs@gmail.com . \nYou can download the Jam Book here:  Hopeful Jammers Book – 2021 \n 
URL:https://www.grantsimpson.net/gs-wp/event/online-jammers-3/
LOCATION:MB
END:VEVENT
BEGIN:VEVENT
DTSTART;TZID=America/Winnipeg:20211116T130000
DTEND;TZID=America/Winnipeg:20211116T140000
DTSTAMP:20260421T165618
CREATED:20211102T222813Z
LAST-MODIFIED:20211102T222813Z
UID:2130-1637067600-1637071200@www.grantsimpson.net
SUMMARY:Workshop:  Introduction to Basic Chord Patterns
DESCRIPTION:Understanding Basic Chord Progressions\nThree one-hour Workshops on Zoom\nThis is a basic introductory level to chord patterns (progressions) and how they work. \nSession one:  We will answer the question “Why do they refer to the chords by numbers?” as in a 1-4-5.   And then to make matters even more confusing –  “Why do they sometimes refer to notes as numbers?”  as in “The 3rd or The 9th”. \nIf I can give you all a good understanding of those two questions in the first session – we will have really got somewhere.  It’s a bit of a tangle to explain it\, so I will have it spelled out as clearly as I can on paper for you to see as we go through it.  \nSession two:  Now that we understand how the numbers work – we will look at the different combinations of chord patterns or progressions.  This is the basic foundation of how all songs are created.  All melodies and words ride on top of “chord progressions”.  So understanding them will really help you understand the songs you are playing in a whole new way. \nSession three:   We will analyze songs from our hopeful jammers book together so we can put all our new knowledge to work.  Plus we will have some listening tests to see if we can identify the chord progressions just by hearing them.  \nDetails and sign-up:\n3 – one hour classes on Zoom. \nNovember 16\, 2021 1:00pm \nNovember 23\, 2021 1:00pm \nNovember 30\, 2021 1:00pm \nRegister online:  https://cafedesvoix.as.me/chords \nCost:  $10 x 3 = $30.00 \nPayments can be made on-line when registering or if you would prefer to email transfer\, you can send it to grantsimpsonmusic@gmail.com \nOr you can mail it to:  Grant Simpson.  305 Bowman Ave.  Winnipeg\, MB.  R2K 1P3.  \nIf you have any questions\, email me or text me at 431-373-3108 and we can set up a phone chat.  
URL:https://www.grantsimpson.net/gs-wp/event/workshop-introduction-to-basic-chord-patterns/
LOCATION:MB
END:VEVENT
BEGIN:VEVENT
DTSTART;TZID=America/Winnipeg:20211115T130000
DTEND;TZID=America/Winnipeg:20211115T150000
DTSTAMP:20260421T165618
CREATED:20211103T164713Z
LAST-MODIFIED:20211103T164713Z
UID:2209-1636981200-1636988400@www.grantsimpson.net
SUMMARY:Hopeful Jammers
DESCRIPTION:The Hopeful Jammers is a gathering of seniors who want to learn how to play music together – to jam together. \nEvery Monday at 1:00pm we gather at the Crescent Fort Rouge United Church to work through our tunes and to add new ones. \nIf you would like to join the group you can contact:  Sandi Howell by email: sandrah2dogs@gmail.com   Sandi will send you a copy of the jam book and get you on our email list. \nThe class is by volunteer donation. \nThe Hopeful Jammers is supported by The Crescent Fort Rouge United 55+ Seniors Program (thank you thank you thank you!)
URL:https://www.grantsimpson.net/gs-wp/event/hopeful-jammers-3/
LOCATION:MB
END:VEVENT
BEGIN:VEVENT
DTSTART;TZID=America/Winnipeg:20211110T130000
DTEND;TZID=America/Winnipeg:20211110T140000
DTSTAMP:20260421T165618
CREATED:20211104T195522Z
LAST-MODIFIED:20211104T195522Z
UID:2259-1636549200-1636552800@www.grantsimpson.net
SUMMARY:Online Jammers
DESCRIPTION:The online jammers meet every Wed at 1:00pm via Zoom to play through songs in the Hopeful Jammers Book.    You can sign-up by emailing:  Sandi Howell sandrah2dogs@gmail.com . \nYou can download the Jam Book here:  Hopeful Jammers Book – 2021 \n 
URL:https://www.grantsimpson.net/gs-wp/event/online-jammers-2/
LOCATION:MB
END:VEVENT
BEGIN:VEVENT
DTSTART;TZID=America/Winnipeg:20211109T140000
DTEND;TZID=America/Winnipeg:20211109T150000
DTSTAMP:20260421T165618
CREATED:20211102T221929Z
LAST-MODIFIED:20211102T221929Z
UID:2128-1636466400-1636470000@www.grantsimpson.net
SUMMARY:Villa Cambrini Personal Care Home
DESCRIPTION:Silent Movie Hour with Grant Simpson on Piano
URL:https://www.grantsimpson.net/gs-wp/event/villa-cambrini-personal-care-home/
LOCATION:MB
END:VEVENT
BEGIN:VEVENT
DTSTART;TZID=America/Winnipeg:20211108T130000
DTEND;TZID=America/Winnipeg:20211108T140000
DTSTAMP:20260421T165618
CREATED:20211103T164626Z
LAST-MODIFIED:20211103T164626Z
UID:2207-1636376400-1636380000@www.grantsimpson.net
SUMMARY:Hopeful Jammers
DESCRIPTION:The Hopeful Jammers is a gathering of seniors who want to learn how to play music together – to jam together. \nEvery Monday at 1:00pm we gather at the Crescent Fort Rouge United Church to work through our tunes and to add new ones. \nIf you would like to join the group you can contact:  Sandi Howell by email: sandrah2dogs@gmail.com   Sandi will send you a copy of the jam book and get you on our email list. \nThe class is by volunteer donation. \nThe Hopeful Jammers is supported by The Crescent Fort Rouge United 55+ Seniors Program (thank you thank you thank you!)
URL:https://www.grantsimpson.net/gs-wp/event/hopeful-jammers-2/
LOCATION:MB
END:VEVENT
BEGIN:VEVENT
DTSTART;TZID=America/Winnipeg:20211103T130000
DTEND;TZID=America/Winnipeg:20211103T140000
DTSTAMP:20260421T165618
CREATED:20211104T195440Z
LAST-MODIFIED:20211104T195440Z
UID:2255-1635944400-1635948000@www.grantsimpson.net
SUMMARY:Online Jammers
DESCRIPTION:The online jammers meet every Wed at 1:00pm via Zoom to play through songs in the Hopeful Jammers Book.    You can sign-up by emailing:  Sandi Howell sandrah2dogs@gmail.com . \nYou can download the Jam Book here:  Hopeful Jammers Book – 2021 \n 
URL:https://www.grantsimpson.net/gs-wp/event/online-jammers/
LOCATION:MB
END:VEVENT
BEGIN:VEVENT
DTSTART;TZID=America/Winnipeg:20211101T130000
DTEND;TZID=America/Winnipeg:20211101T140000
DTSTAMP:20260421T165618
CREATED:20211103T164532Z
LAST-MODIFIED:20211103T164532Z
UID:2203-1635771600-1635775200@www.grantsimpson.net
SUMMARY:Hopeful Jammers
DESCRIPTION:The Hopeful Jammers is a gathering of seniors who want to learn how to play music together – to jam together. \nEvery Monday at 1:00pm we gather at the Crescent Fort Rouge United Church to work through our tunes and to add new ones. \nIf you would like to join the group you can contact:  Sandi Howell by email: sandrah2dogs@gmail.com   Sandi will send you a copy of the jam book and get you on our email list. \nThe class is by volunteer donation. \nThe Hopeful Jammers is supported by The Crescent Fort Rouge United 55+ Seniors Program (thank you thank you thank you!)
URL:https://www.grantsimpson.net/gs-wp/event/hopeful-jammers/
LOCATION:Crescent Fort Rouge\, 525 Wardlaw Ave\, Winnipeg\, MB\, R3L 0L9\, Canada
END:VEVENT
BEGIN:VEVENT
DTSTART;TZID=America/Whitehorse:20190504T120000
DTEND;TZID=America/Whitehorse:20190504T123000
DTSTAMP:20260421T165618
CREATED:20190819T202105Z
LAST-MODIFIED:20190819T202227Z
UID:1677-1556971200-1556973000@www.grantsimpson.net
SUMMARY:The Prairie Vaudeville Radio Show on CJNU 93.7 Nostalgia Radio
DESCRIPTION:Grant’s Weekly Radio show on the history of the halcyon days of Winnipeg Vaudeville\nEvery Friday at Noon on CJNU.  Episodes also online here 
URL:https://www.grantsimpson.net/gs-wp/event/the-prairie-vaudeville-radio-show-on-cjnu-93-7-nostalgia-radio/
LOCATION:CJNU Radio
CATEGORIES:Radio/Podcast,Upcoming Shows
END:VEVENT
BEGIN:VEVENT
DTSTART;TZID=America/Whitehorse:20190330T140000
DTEND;TZID=America/Whitehorse:20190330T153000
DTSTAMP:20260421T165618
CREATED:20190116T232354Z
LAST-MODIFIED:20190116T233544Z
UID:1600-1553954400-1553959800@www.grantsimpson.net
SUMMARY:Vaudeville Talk - History of Vaudeville with a Winnipeg twist
DESCRIPTION:Grant will be giving a talk and performance on the history of vaudeville and what it was like in Winnipeg during the great Vaudeville era.
URL:https://www.grantsimpson.net/gs-wp/event/vaudeville-talk-history-of-vaudeville-with-a-winnipeg-twist/
LOCATION:Winnipeg Public Library\, 251 Donald St.\, Winnipeg\, Manitoba\, Canada
END:VEVENT
BEGIN:VEVENT
DTSTART;TZID=America/Whitehorse:20190320T133000
DTEND;TZID=America/Whitehorse:20190320T143000
DTSTAMP:20260421T165618
CREATED:20190116T231531Z
LAST-MODIFIED:20190116T231531Z
UID:1598-1553088600-1553092200@www.grantsimpson.net
SUMMARY:Gwen Sector
DESCRIPTION:Grant will be entertaining at Gwen Sector
URL:https://www.grantsimpson.net/gs-wp/event/gwen-sector/
LOCATION:MB
END:VEVENT
BEGIN:VEVENT
DTSTART;TZID=America/Whitehorse:20190311T140000
DTEND;TZID=America/Whitehorse:20190311T150000
DTSTAMP:20260421T165618
CREATED:20190116T231359Z
LAST-MODIFIED:20190116T231359Z
UID:1596-1552312800-1552316400@www.grantsimpson.net
SUMMARY:Linwood Manor
DESCRIPTION:Grant will be entertaining at the Linwood Manor Community Centre
URL:https://www.grantsimpson.net/gs-wp/event/linwood-manor/
LOCATION:MB
END:VEVENT
BEGIN:VEVENT
DTSTART;TZID=America/Whitehorse:20190228T140000
DTEND;TZID=America/Whitehorse:20190228T160000
DTSTAMP:20260421T165618
CREATED:20190116T231221Z
LAST-MODIFIED:20190116T231221Z
UID:1594-1551362400-1551369600@www.grantsimpson.net
SUMMARY:Cambridge House
DESCRIPTION:Grant will be entertaining the great folks at Cambridge House
URL:https://www.grantsimpson.net/gs-wp/event/cambridge-house/
LOCATION:MB
END:VEVENT
BEGIN:VEVENT
DTSTART;TZID=America/Whitehorse:20190222T133000
DTEND;TZID=America/Whitehorse:20190222T143000
DTSTAMP:20260421T165618
CREATED:20190116T231030Z
LAST-MODIFIED:20190116T231030Z
UID:1592-1550842200-1550845800@www.grantsimpson.net
SUMMARY:Yum Yum day at Residents des pins
DESCRIPTION:Grant will be entertaining the great folks at Residents des pins.
URL:https://www.grantsimpson.net/gs-wp/event/yum-yum-day-at-residents-des-pins/
LOCATION:MB
END:VEVENT
BEGIN:VEVENT
DTSTART;TZID=America/Whitehorse:20190214T200000
DTEND;TZID=America/Whitehorse:20190214T223000
DTSTAMP:20260421T165618
CREATED:20190116T230618Z
LAST-MODIFIED:20190116T230618Z
UID:1590-1550174400-1550183400@www.grantsimpson.net
SUMMARY:Jonesy & Simpson at Gordies Coffee House
DESCRIPTION:Shauna and Grant are the featured act at Gordie’s Coffee House.  This is a great venue\, with great sound and a great audience.
URL:https://www.grantsimpson.net/gs-wp/event/jonesy-simpson-at-gordies-coffee-house/
LOCATION:MB
END:VEVENT
BEGIN:VEVENT
DTSTART;TZID=America/Whitehorse:20190214T163000
DTEND;TZID=America/Whitehorse:20190214T173000
DTSTAMP:20260421T165618
CREATED:20190116T225838Z
LAST-MODIFIED:20190116T230757Z
UID:1585-1550161800-1550165400@www.grantsimpson.net
SUMMARY:Dinner Piano at Riverwood Square
DESCRIPTION:Grant will be playing nostalgic favorites for the dinning pleasure of the Riverwood Square community.
URL:https://www.grantsimpson.net/gs-wp/event/dinner-piano-at-riverwood-square/
LOCATION:MB
END:VEVENT
BEGIN:VEVENT
DTSTART;TZID=America/Whitehorse:20190214T150000
DTEND;TZID=America/Whitehorse:20190214T160000
DTSTAMP:20260421T165618
CREATED:20190116T225724Z
LAST-MODIFIED:20190116T230707Z
UID:1582-1550156400-1550160000@www.grantsimpson.net
SUMMARY:Silent Movie Hour at Riverwood Square
DESCRIPTION:Join Grant as he presents and plays for silent movie shorts of the golden era! \n 
URL:https://www.grantsimpson.net/gs-wp/event/silent-movie-hour-at-riverwood-square/
LOCATION:Riverwood Square
END:VEVENT
BEGIN:VEVENT
DTSTART;TZID=America/Whitehorse:20190214T130000
DTEND;TZID=America/Whitehorse:20190214T143000
DTSTAMP:20260421T165618
CREATED:20190116T230502Z
LAST-MODIFIED:20190116T230502Z
UID:1587-1550149200-1550154600@www.grantsimpson.net
SUMMARY:Swing Dance at Lions Manor
DESCRIPTION:Join Grant as he plays for the dancing please of the Lions Manor Community.
URL:https://www.grantsimpson.net/gs-wp/event/swing-dance-at-lions-manor/
LOCATION:Lions Manor\, 320 Sherbrook Street\, Winnipeg\, MB
END:VEVENT
BEGIN:VEVENT
DTSTART;TZID=America/Whitehorse:20190202T190000
DTEND;TZID=America/Whitehorse:20190202T220000
DTSTAMP:20260421T165618
CREATED:20190116T225412Z
LAST-MODIFIED:20190116T225514Z
UID:1577-1549134000-1549144800@www.grantsimpson.net
SUMMARY:Winnipeg Harvest Fundraiser
DESCRIPTION:Jonesy & Simpson take the stage with their usual mix of 1920s hot jazz\, sultry blues and rompin rags. \nWe are so proud to be a part of this great fundraiser and to work with such an active community.
URL:https://www.grantsimpson.net/gs-wp/event/winnipeg-harvest-fundraiser/
LOCATION:St. James Anglican Church\, 195 Collegiate St\, Winnipeg\, Manitoba\, R3J 1T9\, Canada
END:VEVENT
BEGIN:VEVENT
DTSTART;TZID=America/Whitehorse:20190116T130000
DTEND;TZID=America/Whitehorse:20190116T140000
DTSTAMP:20260421T165618
CREATED:20190116T222937Z
LAST-MODIFIED:20190116T224455Z
UID:1570-1547643600-1547647200@www.grantsimpson.net
SUMMARY:Southdale Community Centre
DESCRIPTION:It’s Vaudeville Time! \nGrant performs his one-man vaudeville show including songs inspired by the times of Prohibition\, Bobbed Hair\, Ragtime\, Hot Jazz\, Blues\, Comedy and more.  His act also includes musical saw\, guitar and banjo and plenty of laughs along the way. \n1:00-2:00pm \nAt Southdale Community Centre
URL:https://www.grantsimpson.net/gs-wp/event/southdale-community-centre/
LOCATION:MB
END:VEVENT
BEGIN:VEVENT
DTSTART;TZID=America/Whitehorse:20151002T043000
DTEND;TZID=America/Whitehorse:20151002T191500
DTSTAMP:20260421T165618
CREATED:20140930T221601Z
LAST-MODIFIED:20140930T221704Z
UID:1171-1443760200-1443813300@www.grantsimpson.net
SUMMARY:The Basement - Saskatoon
DESCRIPTION:Looking forward to playing the piano slot at the Basement Jazz Club in Saskatoon \n 
URL:https://www.grantsimpson.net/gs-wp/event/the-basement-saskatoon/
LOCATION:The Basement\, 202 4 Ave N\, Saskatoon\, SASK
END:VEVENT
BEGIN:VEVENT
DTSTART;TZID=America/Whitehorse:20150509T080000
DTEND;TZID=America/Whitehorse:20150509T170000
DTSTAMP:20260421T165618
CREATED:20150227T053428Z
LAST-MODIFIED:20150227T053428Z
UID:1290-1431158400-1431190800@www.grantsimpson.net
SUMMARY:House Concert in Whitehorse
DESCRIPTION:Details TBA
URL:https://www.grantsimpson.net/gs-wp/event/house-concert-in-whitehorse/
LOCATION:MB
END:VEVENT
BEGIN:VEVENT
DTSTART;VALUE=DATE:20150505
DTEND;VALUE=DATE:20150902
DTSTAMP:20260421T165618
CREATED:20150227T053608Z
LAST-MODIFIED:20150227T053608Z
UID:1291-1430784000-1441151999@www.grantsimpson.net
SUMMARY:Frantic Follies Vaudeville Revue
DESCRIPTION:
URL:https://www.grantsimpson.net/gs-wp/event/frantic-follies-vaudeville-revue-3/
LOCATION:Frantic Follies Vaudeville Revue\, 202 Wood Street\, Whitehorse\, Yukon\, Canada
END:VEVENT
BEGIN:VEVENT
DTSTART;TZID=America/Whitehorse:20150424T190000
DTEND;TZID=America/Whitehorse:20150424T210000
DTSTAMP:20260421T165618
CREATED:20150227T052646Z
LAST-MODIFIED:20150227T052646Z
UID:1286-1429902000-1429909200@www.grantsimpson.net
SUMMARY:Sointula at the End of the Road Endevours
DESCRIPTION:
URL:https://www.grantsimpson.net/gs-wp/event/sointula-at-the-end-of-the-road-endevours/
LOCATION:MB
END:VEVENT
BEGIN:VEVENT
DTSTART;TZID=America/Whitehorse:20150423T190000
DTEND;TZID=America/Whitehorse:20150423T210000
DTSTAMP:20260421T165618
CREATED:20150227T052406Z
LAST-MODIFIED:20150227T052406Z
UID:1284-1429815600-1429822800@www.grantsimpson.net
SUMMARY:Port McNeil at the Gatehouse Theatre!
DESCRIPTION:
URL:https://www.grantsimpson.net/gs-wp/event/port-mcneil-at-the-gatehouse-theatre/
LOCATION:MB
END:VEVENT
END:VCALENDAR