BEGIN:VCALENDAR
VERSION:2.0
PRODID:-//Grant Simpson Music - ECPv6.15.20//NONSGML v1.0//EN
CALSCALE:GREGORIAN
METHOD:PUBLISH
X-WR-CALNAME:Grant Simpson Music
X-ORIGINAL-URL:https://www.grantsimpson.net/gs-wp
X-WR-CALDESC:Events for Grant Simpson Music
REFRESH-INTERVAL;VALUE=DURATION:PT1H
X-Robots-Tag:noindex
X-PUBLISHED-TTL:PT1H
BEGIN:VTIMEZONE
TZID:America/Whitehorse
BEGIN:DAYLIGHT
TZOFFSETFROM:-0800
TZOFFSETTO:-0700
TZNAME:PDT
DTSTART:20100314T100000
END:DAYLIGHT
BEGIN:STANDARD
TZOFFSETFROM:-0700
TZOFFSETTO:-0800
TZNAME:PST
DTSTART:20101107T090000
END:STANDARD
BEGIN:DAYLIGHT
TZOFFSETFROM:-0800
TZOFFSETTO:-0700
TZNAME:PDT
DTSTART:20110313T100000
END:DAYLIGHT
BEGIN:STANDARD
TZOFFSETFROM:-0700
TZOFFSETTO:-0800
TZNAME:PST
DTSTART:20111106T090000
END:STANDARD
BEGIN:DAYLIGHT
TZOFFSETFROM:-0800
TZOFFSETTO:-0700
TZNAME:PDT
DTSTART:20120311T100000
END:DAYLIGHT
BEGIN:STANDARD
TZOFFSETFROM:-0700
TZOFFSETTO:-0800
TZNAME:PST
DTSTART:20121104T090000
END:STANDARD
BEGIN:DAYLIGHT
TZOFFSETFROM:-0800
TZOFFSETTO:-0700
TZNAME:PDT
DTSTART:20130310T100000
END:DAYLIGHT
BEGIN:STANDARD
TZOFFSETFROM:-0700
TZOFFSETTO:-0800
TZNAME:PST
DTSTART:20131103T090000
END:STANDARD
BEGIN:DAYLIGHT
TZOFFSETFROM:-0800
TZOFFSETTO:-0700
TZNAME:PDT
DTSTART:20140309T100000
END:DAYLIGHT
BEGIN:STANDARD
TZOFFSETFROM:-0700
TZOFFSETTO:-0800
TZNAME:PST
DTSTART:20141102T090000
END:STANDARD
BEGIN:DAYLIGHT
TZOFFSETFROM:-0800
TZOFFSETTO:-0700
TZNAME:PDT
DTSTART:20150308T100000
END:DAYLIGHT
BEGIN:STANDARD
TZOFFSETFROM:-0700
TZOFFSETTO:-0800
TZNAME:PST
DTSTART:20151101T090000
END:STANDARD
BEGIN:DAYLIGHT
TZOFFSETFROM:-0800
TZOFFSETTO:-0700
TZNAME:PDT
DTSTART:20160313T100000
END:DAYLIGHT
BEGIN:STANDARD
TZOFFSETFROM:-0700
TZOFFSETTO:-0800
TZNAME:PST
DTSTART:20161106T090000
END:STANDARD
BEGIN:DAYLIGHT
TZOFFSETFROM:-0800
TZOFFSETTO:-0700
TZNAME:PDT
DTSTART:20170312T100000
END:DAYLIGHT
BEGIN:STANDARD
TZOFFSETFROM:-0700
TZOFFSETTO:-0800
TZNAME:PST
DTSTART:20171105T090000
END:STANDARD
BEGIN:DAYLIGHT
TZOFFSETFROM:-0800
TZOFFSETTO:-0700
TZNAME:PDT
DTSTART:20180311T100000
END:DAYLIGHT
BEGIN:STANDARD
TZOFFSETFROM:-0700
TZOFFSETTO:-0800
TZNAME:PST
DTSTART:20181104T090000
END:STANDARD
BEGIN:DAYLIGHT
TZOFFSETFROM:-0800
TZOFFSETTO:-0700
TZNAME:PDT
DTSTART:20190310T100000
END:DAYLIGHT
BEGIN:STANDARD
TZOFFSETFROM:-0700
TZOFFSETTO:-0800
TZNAME:PST
DTSTART:20191103T090000
END:STANDARD
BEGIN:DAYLIGHT
TZOFFSETFROM:-0800
TZOFFSETTO:-0700
TZNAME:PDT
DTSTART:20200308T100000
END:DAYLIGHT
BEGIN:STANDARD
TZOFFSETFROM:-0700
TZOFFSETTO:-0700
TZNAME:MST
DTSTART:20201101T070000
END:STANDARD
END:VTIMEZONE
BEGIN:VEVENT
DTSTART;TZID=America/Whitehorse:20190504T120000
DTEND;TZID=America/Whitehorse:20190504T123000
DTSTAMP:20260422T053525
CREATED:20190819T202105Z
LAST-MODIFIED:20190819T202227Z
UID:1677-1556971200-1556973000@www.grantsimpson.net
SUMMARY:The Prairie Vaudeville Radio Show on CJNU 93.7 Nostalgia Radio
DESCRIPTION:Grant’s Weekly Radio show on the history of the halcyon days of Winnipeg Vaudeville\nEvery Friday at Noon on CJNU.  Episodes also online here 
URL:https://www.grantsimpson.net/gs-wp/event/the-prairie-vaudeville-radio-show-on-cjnu-93-7-nostalgia-radio/
LOCATION:CJNU Radio
CATEGORIES:Radio/Podcast,Upcoming Shows
END:VEVENT
BEGIN:VEVENT
DTSTART;TZID=America/Whitehorse:20111113T100000
DTEND;TZID=America/Whitehorse:20111113T110000
DTSTAMP:20260422T053525
CREATED:20111113T131525Z
LAST-MODIFIED:20111119T163957Z
UID:679-1321178400-1321182000@www.grantsimpson.net
SUMMARY:Grant Simpson and Kate Weekes on CHLY101.7 FM
DESCRIPTION:Kate and I will be interviewed on CHLY.7 FM this morning (Sunday\, November 13/11) at 10:00 a.m.  This is the community radio station of my old college (Malaspina College – now Vancouver Island University). \nIf you miss the live show – it will be podcast.\nhttp://chly.ca/the-program-schedule/sunday-2/songwriter-circle/ \nAbout CHLY:\nThe people of Radio Malaspina are committed to engaging our listeners with an inclusive\, intelligent and innovative alternative media experience. We encourage personal responsibility in all levels of community. We are a campus- and community-supported forum and stage for the voices of Malaspina University-College\, Nanaimo\, the Islands and beyond.
URL:https://www.grantsimpson.net/gs-wp/event/grant-simpson-and-kate-weekes-on-chly101-7-fm/
LOCATION:CHLY Radio Interview\, On Air\, Nanaimo\, B.C.\, Canada
CATEGORIES:General News,Radio/Podcast,Upcoming Shows
END:VEVENT
END:VCALENDAR