BEGIN:VCALENDAR
VERSION:2.0
PRODID:-//Grant Simpson Music - ECPv6.15.20//NONSGML v1.0//EN
CALSCALE:GREGORIAN
METHOD:PUBLISH
X-WR-CALNAME:Grant Simpson Music
X-ORIGINAL-URL:https://www.grantsimpson.net/gs-wp
X-WR-CALDESC:Events for Grant Simpson Music
REFRESH-INTERVAL;VALUE=DURATION:PT1H
X-Robots-Tag:noindex
X-PUBLISHED-TTL:PT1H
BEGIN:VTIMEZONE
TZID:America/Winnipeg
BEGIN:DAYLIGHT
TZOFFSETFROM:-0600
TZOFFSETTO:-0500
TZNAME:CDT
DTSTART:20250309T080000
END:DAYLIGHT
BEGIN:STANDARD
TZOFFSETFROM:-0500
TZOFFSETTO:-0600
TZNAME:CST
DTSTART:20251102T070000
END:STANDARD
BEGIN:DAYLIGHT
TZOFFSETFROM:-0600
TZOFFSETTO:-0500
TZNAME:CDT
DTSTART:20260308T080000
END:DAYLIGHT
BEGIN:STANDARD
TZOFFSETFROM:-0500
TZOFFSETTO:-0600
TZNAME:CST
DTSTART:20261101T070000
END:STANDARD
BEGIN:DAYLIGHT
TZOFFSETFROM:-0600
TZOFFSETTO:-0500
TZNAME:CDT
DTSTART:20270314T080000
END:DAYLIGHT
BEGIN:STANDARD
TZOFFSETFROM:-0500
TZOFFSETTO:-0600
TZNAME:CST
DTSTART:20271107T070000
END:STANDARD
END:VTIMEZONE
BEGIN:VEVENT
DTSTART;TZID=America/Winnipeg:20260424T190000
DTEND;TZID=America/Winnipeg:20260424T210000
DTSTAMP:20260424T202813
CREATED:20260305T125657Z
LAST-MODIFIED:20260305T125657Z
UID:3398-1777057200-1777064400@www.grantsimpson.net
SUMMARY:Two Piano Tornado in Concert
DESCRIPTION:
URL:https://www.grantsimpson.net/gs-wp/event/two-piano-tornado-in-concert/
END:VEVENT
BEGIN:VEVENT
DTSTART;VALUE=DATE:20260425
DTEND;VALUE=DATE:20260426
DTSTAMP:20260424T202813
CREATED:20251223T142825Z
LAST-MODIFIED:20260417T163447Z
UID:3355-1777075200-1777161599@www.grantsimpson.net
SUMMARY:Hoagy Carmichael Show
DESCRIPTION:
URL:https://www.grantsimpson.net/gs-wp/event/hoagy-carmichael-show/
END:VEVENT
BEGIN:VEVENT
DTSTART;TZID=America/Winnipeg:20260426T140000
DTEND;TZID=America/Winnipeg:20260426T160000
DTSTAMP:20260424T202813
CREATED:20250902T121741Z
LAST-MODIFIED:20250920T233528Z
UID:3201-1777212000-1777219200@www.grantsimpson.net
SUMMARY:Casual Community Choir
DESCRIPTION:
URL:https://www.grantsimpson.net/gs-wp/event/casual-community-choir-29/
END:VEVENT
BEGIN:VEVENT
DTSTART;TZID=America/Winnipeg:20260427T130000
DTEND;TZID=America/Winnipeg:20260427T140000
DTSTAMP:20260424T202813
CREATED:20250902T101643Z
LAST-MODIFIED:20250902T101643Z
UID:3024-1777294800-1777298400@www.grantsimpson.net
SUMMARY:Hopeful Jammers
DESCRIPTION:
URL:https://www.grantsimpson.net/gs-wp/event/hopeful-jammers-42/
LOCATION:Crescent Fort Rouge\, 525 Wardlaw Ave\, Winnipeg\, MB\, R3L 0L9\, Canada
END:VEVENT
BEGIN:VEVENT
DTSTART;TZID=America/Winnipeg:20260429T133000
DTEND;TZID=America/Winnipeg:20260429T143000
DTSTAMP:20260424T202813
CREATED:20250902T105430Z
LAST-MODIFIED:20250902T105430Z
UID:3080-1777469400-1777473000@www.grantsimpson.net
SUMMARY:Swing Jam at Gordies
DESCRIPTION:
URL:https://www.grantsimpson.net/gs-wp/event/swing-jam-at-gordies-31/
END:VEVENT
END:VCALENDAR