BEGIN:VCALENDAR
VERSION:2.0
PRODID:-//Grant Simpson Music - ECPv6.15.20//NONSGML v1.0//EN
CALSCALE:GREGORIAN
METHOD:PUBLISH
X-WR-CALNAME:Grant Simpson Music
X-ORIGINAL-URL:https://www.grantsimpson.net/gs-wp
X-WR-CALDESC:Events for Grant Simpson Music
REFRESH-INTERVAL;VALUE=DURATION:PT1H
X-Robots-Tag:noindex
X-PUBLISHED-TTL:PT1H
BEGIN:VTIMEZONE
TZID:America/Winnipeg
BEGIN:DAYLIGHT
TZOFFSETFROM:-0600
TZOFFSETTO:-0500
TZNAME:CDT
DTSTART:20250309T080000
END:DAYLIGHT
BEGIN:STANDARD
TZOFFSETFROM:-0500
TZOFFSETTO:-0600
TZNAME:CST
DTSTART:20251102T070000
END:STANDARD
BEGIN:DAYLIGHT
TZOFFSETFROM:-0600
TZOFFSETTO:-0500
TZNAME:CDT
DTSTART:20260308T080000
END:DAYLIGHT
BEGIN:STANDARD
TZOFFSETFROM:-0500
TZOFFSETTO:-0600
TZNAME:CST
DTSTART:20261101T070000
END:STANDARD
BEGIN:DAYLIGHT
TZOFFSETFROM:-0600
TZOFFSETTO:-0500
TZNAME:CDT
DTSTART:20270314T080000
END:DAYLIGHT
BEGIN:STANDARD
TZOFFSETFROM:-0500
TZOFFSETTO:-0600
TZNAME:CST
DTSTART:20271107T070000
END:STANDARD
END:VTIMEZONE
BEGIN:VEVENT
DTSTART;TZID=America/Winnipeg:20260310T133000
DTEND;TZID=America/Winnipeg:20260310T143000
DTSTAMP:20260420T034856
CREATED:20250816T170408Z
LAST-MODIFIED:20250903T123214Z
UID:2861-1773149400-1773153000@www.grantsimpson.net
SUMMARY:Silent Movie Tuesdays at the Crescent Arts Centre
DESCRIPTION:Silent Movie Tuesdays at the Crescent Arts Centre\n\nSilent movies with live piano make for a unique and magical event. Join Grant Simpson as he plays his way through some of the great Silent Movie Classics. \nTuesday afternoons from 1:30-2:30 at the Crescent Arts Centre (Crescent For Rouge United at 525 Wardlaw) on the following Tuesdays: \nTuesday\, October 14th\nTuesday\, November 18th\nTuesday\, December 16th\nTuesday\, January 13th\nTuesday\, Feb 17th\nTuesday\, March 10th\nTuesday\, April 14th\nTuesday\, May 12 \nCome and enjoy an hour of good old (very old) fashioned fun. Silent Movies!!
URL:https://www.grantsimpson.net/gs-wp/event/silent-movie-tuesdays-at-the-crescent-arts-centre-7/
LOCATION:Crescent Fort Rouge\, 525 Wardlaw Ave\, Winnipeg\, MB\, R3L 0L9\, Canada
END:VEVENT
END:VCALENDAR